BEGIN:VCALENDAR
VERSION:2.0
PRODID:-//Children Across America - ECPv6.15.20//NONSGML v1.0//EN
CALSCALE:GREGORIAN
METHOD:PUBLISH
X-ORIGINAL-URL:https://childrenacrossamerica.org
X-WR-CALDESC:Events for Children Across America
REFRESH-INTERVAL;VALUE=DURATION:PT1H
X-Robots-Tag:noindex
X-PUBLISHED-TTL:PT1H
BEGIN:VTIMEZONE
TZID:UTC
BEGIN:STANDARD
TZOFFSETFROM:+0000
TZOFFSETTO:+0000
TZNAME:UTC
DTSTART:20230101T000000
END:STANDARD
END:VTIMEZONE
BEGIN:VEVENT
DTSTART;TZID=UTC:20241201T120000
DTEND;TZID=UTC:20241201T150000
DTSTAMP:20260420T101934
CREATED:20240913T154638Z
LAST-MODIFIED:20241007T194838Z
UID:6321-1733054400-1733065200@childrenacrossamerica.org
SUMMARY:Rachael's Memorial Run
DESCRIPTION:Brought to You by the Johnson Family\n			\n							Rachael's Memorial 5K Run \n			\n					\n\n					\n				\n					\n		\n					\n		\n				\n							\n							\n					\n			\n						\n				\n									Join us for Rachael’s Memorial Run as we come together to honor the life and legacy of Rachael Johnson on December 1st\, 2024 at Auburn Elks. This event is not only a celebration of Rachael’s memory who bravely battled leukemia\, but also an opportunity to support her dedication to youth and advocacy. Her passions for speech pathology and family services lives on through the annual 5K memorial run brought to you by the Johnson Family. Whether you’re running\, walking\, or cheering from the sidelines\, your participation means the world. Let’s run\, remember\, and celebrate Rachael’s spirit together.  								\n				\n					\n		\n					\n		\n				\n							\n							\n					\n			\n						\n				\n									Register Today								\n				\n				\n				\n									Date: December 1\, 2024Time: 12:00 PM – 3:00 PMLocation: Auburn Elks\, 754 Southbridge St\, Auburn\, MA 01501 								\n				\n				\n				\n									\n					\n						\n									Sign Up Now\n					\n					\n				\n								\n				\n					\n		\n				\n			\n						\n				\n							\n			\n		\n						\n				\n					\n		\n					\n		\n				\n							\n							\n					\n			\n						\n				\n							\n							Rachael's Memorial Run Hosted by CAA\n			\n							5k Sponsorship Tiers\n			\n								Rachael was a devoted supporter of speech pathology and family services. Your sponsorship brings awareness to the vital role of  speech pathology in enhancing communication and quality of life  while empowering organizations that provide essential services to help youth and families overcome challenges and build brighter futures.  As we aim to honor Rachael's memory by supporting these causes that\nwere close to her heart\, your commitment to our cause is greatly appreciated and we are\nhonored to      showcase your support in various ways throughout the year. \n						\n\n					\n				\n					\n		\n					\n		\n				\n							\n							\n					\n			\n						\n				\n							\n			\n						\n		\n						\n				\n				\n				\n					Silver Sponsorship				\n				\n				\n				\n					$199.00				\n				\n				\n				\n									Your “Company Name” and Logo will be featured on the CAA event webpage and all banners. 								\n				\n				\n				\n									\n					\n						\n									Sponsor Now\n					\n					\n				\n								\n				\n					\n		\n				\n			\n						\n				\n							\n			\n						\n		\n						\n				\n				\n				\n					Gold Sponsorship				\n				\n				\n				\n					$299.00				\n				\n				\n				\n									Your “Company Name” and Logo will appear on the CAA event page and showcased all banners as a Gold Sponsor. 								\n				\n				\n				\n									\n					\n						\n									Sponsor Now\n					\n					\n				\n								\n				\n					\n		\n					\n		\n				\n							\n							\n					\n			\n						\n				\n							\n			\n						\n		\n						\n				\n				\n				\n					Platinum Sponsorship				\n				\n				\n				\n					$499.00				\n				\n				\n				\n									Your “Company Name” and Logo will be highlighted on the CAA website\, event webpage\, and all banners as a Platinum Sponsor. Additionally\, you will be presented with a framed certificate during the memorial run speech as we express our gratitude for your donation.  								\n				\n				\n				\n									\n					\n						\n									Sponsor Now
URL:https://childrenacrossamerica.org/events/rachaels-memorial-run/
LOCATION:Auburn Elks\, 754 Southbridge St\, Auburn\, MA\, 01501\, United States
CATEGORIES:5k Run
ATTACH;FMTTYPE=image/png:https://childrenacrossamerica.org/wp-content/uploads/2024/09/16-9-Rachaels-Run.png
ORGANIZER;CN="Vanessa Hobson":MAILTO:info@childrenacrossamerica.org
END:VEVENT
END:VCALENDAR